BEGIN:VCALENDAR
VERSION:2.0
PRODID:-//Le Centre Culturel Anatolie - ECPv6.15.20//NONSGML v1.0//EN
CALSCALE:GREGORIAN
METHOD:PUBLISH
X-WR-CALNAME:Le Centre Culturel Anatolie
X-ORIGINAL-URL:https://cca-anatolie.com
X-WR-CALDESC:Évènements pour Le Centre Culturel Anatolie
REFRESH-INTERVAL;VALUE=DURATION:PT1H
X-Robots-Tag:noindex
X-PUBLISHED-TTL:PT1H
BEGIN:VTIMEZONE
TZID:Europe/Paris
BEGIN:DAYLIGHT
TZOFFSETFROM:+0100
TZOFFSETTO:+0200
TZNAME:CEST
DTSTART:20240331T010000
END:DAYLIGHT
BEGIN:STANDARD
TZOFFSETFROM:+0200
TZOFFSETTO:+0100
TZNAME:CET
DTSTART:20241027T010000
END:STANDARD
BEGIN:DAYLIGHT
TZOFFSETFROM:+0100
TZOFFSETTO:+0200
TZNAME:CEST
DTSTART:20250330T010000
END:DAYLIGHT
BEGIN:STANDARD
TZOFFSETFROM:+0200
TZOFFSETTO:+0100
TZNAME:CET
DTSTART:20251026T010000
END:STANDARD
BEGIN:DAYLIGHT
TZOFFSETFROM:+0100
TZOFFSETTO:+0200
TZNAME:CEST
DTSTART:20260329T010000
END:DAYLIGHT
BEGIN:STANDARD
TZOFFSETFROM:+0200
TZOFFSETTO:+0100
TZNAME:CET
DTSTART:20261025T010000
END:STANDARD
END:VTIMEZONE
BEGIN:VEVENT
DTSTART;TZID=Europe/Paris:20250522T190000
DTEND;TZID=Europe/Paris:20250522T210000
DTSTAMP:20260426T035539
CREATED:20250505T150030Z
LAST-MODIFIED:20250507T171116Z
UID:7403-1747940400-1747947600@cca-anatolie.com
SUMMARY:Créations musicales contemporaines
DESCRIPTION:Le Centre Culturel Anatolie a le plaisir de vous inviter au concert de musique classique \nCréations musicales contemporaines\nStéphane Cem Kiliç\, Marie-Claudine Papadopoulos et Aigerim Matayeva-Blanchart \nLe jeudi 22 mai 2025 à 19 heures \nStéphane Cem Kiliç (Compositeur) \nStéphane Cem Kiliç commence très jeune le violon\, et intégrera par la suite à l&#39;âge de 17 ans\, le Conservatoire National Supérieur de Musique de Paris. À la fin de son parcours violonistique au conservatoire\, il entreprend des études de compositions musicales qui l&#39;amènent à être invité à se perfectionner aux États-Unis auprès de Christopher Young\, compositeur reconnu de musique de Film. \nAigerim Matayeva-Blanchart (Pianiste) \nOriginaire du Kazakhstan\, Aigerim Matayeva débute le piano à six ans et se produit avec orchestre dès l&#39;âge de huit ans. Lauréate de plusieurs concours internationaux\, elle poursuit ses études à l’Académie nationale de musique du Kazakhstan\, puis à Paris grâce à la bourse d’excellence « Bolashak ». Elle obtient ses diplômes à l’École Normale de Musique et au Conservatoire Régional\, dans les classes de Paul Meyer et Éric Le Sage. Pianiste du trio « Grenade »\, elle enseigne actuellement au Conservatoire Slave de Paris. En 2024\, une de ses élèves remporte le 2ᵉ prix du Concours international Arthur Rubinstein. Co-présidente du centre culturel « Korkyt »\, elle co-fonde également l’« Académie des Petits Musiciens » dédiée aux jeunes talents. \nMarie-Claudine Papadopoulos (Violoniste)  \nMarie-Claudine\, violoniste franco-gréco-syrienne\, se produit en soliste avec de nombreux orchestres internationaux et participe à des festivals prestigieux de musique de chambre. Lauréate de plusieurs prix et soutenue par diverses fondations\, elle a étudié dans des institutions renommées en Allemagne et en France. Passionnée par l&#39;enseignement\, elle a cofondé l’Académie d’été de musique de chambre de Trouville-sur-Mer. Elle entretient également un lien particulier avec le Honduras à travers des projets éducatifs musicaux. Elle a enregistré plusieurs CD et joue sur un violon Niccolò Amati de 1645.
URL:https://cca-anatolie.com/evenement/creations-musicales-contemporaines-2025/
LOCATION:Centre Culturel Anatolie\, Centre Culturel Anatolie 77 rue La Fayette\, Paris\, 75009\, France
CATEGORIES:Événement
ATTACH;FMTTYPE=image/jpeg:https://cca-anatolie.com/wp-content/uploads/2025/05/cca-event-20250522.jpg
ORGANIZER;CN="Centre Culturel Anatolie":MAILTO:contact@cca-anatolie.com
END:VEVENT
BEGIN:VEVENT
DTSTART;TZID=Europe/Paris:20250524T210000
DTEND;TZID=Europe/Paris:20250524T223000
DTSTAMP:20260426T035539
CREATED:20250507T165900Z
LAST-MODIFIED:20250509T102547Z
UID:7407-1748120400-1748125800@cca-anatolie.com
SUMMARY:Nuit de la littérature
DESCRIPTION:Cette année\, c’est dans le 16ᵉ arrondissement\, au Goethe-Institut de Paris\, que notre bulle littéraire prendra place\, autour de vingt auteurs étrangers dont le livre a été publié en France. \nAvec ces rencontres littéraires en plein air\, vous découvrirez de la poésie\, des romans\, des nouvelles et de la bande-dessinée. Les auteurs et autrices de cette édition seront avec nous toute la journée pour vous raconter leurs histoires\, vous chuchoter leurs lectures “à l’oreille” et vous dédicacer leurs livres afin d’emporter avec vous un souvenir. La mosaïque des rencontres\, dont chacune ne dure que 20 minutes\, vous fera voyager dans des univers très variés. \nPour cette Nuit de la Littérature\, nous avons également pensé à vos papilles ! Une carte de la gastronomie allemande vous sera proposée pour vous restaurer tout au long de l’après-midi et de la soirée. Enfin\, pour conclure en musique notre fête littéraire\, la soirée se terminera avec un DJ set allemand dans la cour du Goethe-Institut. \nCet événement gratuit et ouvert à toutes et tous est idéal pour un moment en famille ou entre amis ! \nLe Centre Culturel Anatolie sera représenté par Timour Muhidine avec son Récit de voyage \nVoyage en grand écran aux éditions Emmanuelle Collas
URL:https://cca-anatolie.com/evenement/nuit-de-la-litterature/
LOCATION:Goethe-Institut Paris\, 17 avenue d'Iéna\, Paris\, 75016\, France
CATEGORIES:Événement,Présentation
ATTACH;FMTTYPE=image/jpeg:https://cca-anatolie.com/wp-content/uploads/2025/05/Nuit-de-la-litterature.jpg
ORGANIZER;CN="Forum des Instituts Culturels %C3%89trangers %C3%A0 Paris":MAILTO:contact@ficep.info
END:VEVENT
END:VCALENDAR