BEGIN:VCALENDAR
VERSION:2.0
PRODID:-//Le Centre Culturel Anatolie - ECPv6.15.20//NONSGML v1.0//EN
CALSCALE:GREGORIAN
METHOD:PUBLISH
X-ORIGINAL-URL:https://cca-anatolie.com
X-WR-CALDESC:Évènements pour Le Centre Culturel Anatolie
REFRESH-INTERVAL;VALUE=DURATION:PT1H
X-Robots-Tag:noindex
X-PUBLISHED-TTL:PT1H
BEGIN:VTIMEZONE
TZID:Europe/Paris
BEGIN:DAYLIGHT
TZOFFSETFROM:+0100
TZOFFSETTO:+0200
TZNAME:CEST
DTSTART:20240331T010000
END:DAYLIGHT
BEGIN:STANDARD
TZOFFSETFROM:+0200
TZOFFSETTO:+0100
TZNAME:CET
DTSTART:20241027T010000
END:STANDARD
BEGIN:DAYLIGHT
TZOFFSETFROM:+0100
TZOFFSETTO:+0200
TZNAME:CEST
DTSTART:20250330T010000
END:DAYLIGHT
BEGIN:STANDARD
TZOFFSETFROM:+0200
TZOFFSETTO:+0100
TZNAME:CET
DTSTART:20251026T010000
END:STANDARD
BEGIN:DAYLIGHT
TZOFFSETFROM:+0100
TZOFFSETTO:+0200
TZNAME:CEST
DTSTART:20260329T010000
END:DAYLIGHT
BEGIN:STANDARD
TZOFFSETFROM:+0200
TZOFFSETTO:+0100
TZNAME:CET
DTSTART:20261025T010000
END:STANDARD
END:VTIMEZONE
BEGIN:VEVENT
DTSTART;TZID=Europe/Paris:20250605T190000
DTEND;TZID=Europe/Paris:20250605T220000
DTSTAMP:20260419T213236
CREATED:20250505T150300Z
LAST-MODIFIED:20250507T172043Z
UID:7405-1749150000-1749160800@cca-anatolie.com
SUMMARY:Le nord de l’Anatolie
DESCRIPTION:Présentation du livre\nLe nord de l’Anatolie\nIdentités et territoires de l’Antiquité à nos jours\nClaire Barat\nLe jeudi 5 juin 2025 à 19 h \nLe nord de l’Anatolie correspond aux rivages septentrionaux de l’actuelle Turquie\, bordés par la mer Noire\, et à leur arrière-pays. L’annexion de la Crimée en 2014 et l’invasion de l’Ukraine le 24 février 2022 par la Russie ont montré l’enjeu stratégique que représente encore la mer Noire\, tant d’un point de vue politique que commercial et sécuritaire. L’ouvrage vise à faire découvrir une région mal connue. Il expose comment la côte sud de la mer Noire a été un territoire stratégique dès l’Antiquité\, avec la question de la colonisation grecque et du commerce du blé à travers les détroits du Bosphore et des Dardanelles\, la question des dominations romaine\, byzantine et turque\, et l’intérêt des puissances étrangères comme Venise\, Gênes\, la France et l’Allemagne entre le XIIIe et le XIXe siècle. Au XXe siècle\, cette région multiethnique a été\, comme d’autres régions de Turquie\, le théâtre d’effacement de populations par expulsion ou élimination collectives entre 1915 et 1923. En raison de son histoire riche et complexe\, mais aussi de sa géographie originale et de ses paysages très verts\, le nord de l’Anatolie a une identité culturelle bien marquée qui alimente la création littéraire et la culture populaire : les blagues de la mer Noire sont aussi célèbres en Turquie que les blagues belges en France. \n– Ouvrage de 342 pages\, format 16\,5 x 24 cm – ISBN : 978-2-7535-9663-4 \nClaire Barat est maître de conférences en histoire ancienne à l’université polytechnique Hauts-de-France à Valenciennes. Ses recherches portent sur l’histoire et l’archéologie de l’Anatolie et de la mer Noire dans l’Antiquité.
URL:https://cca-anatolie.com/evenement/le-nord-de-lanatolie/
LOCATION:Centre Culturel Anatolie\, Centre Culturel Anatolie 77 rue La Fayette\, Paris\, 75009\, France
CATEGORIES:Événement,Présentation
ATTACH;FMTTYPE=image/jpeg:https://cca-anatolie.com/wp-content/uploads/2025/05/cca-present-20250605.jpg
ORGANIZER;CN="Centre Culturel Anatolie":MAILTO:contact@cca-anatolie.com
END:VEVENT
END:VCALENDAR