BEGIN:VCALENDAR
VERSION:2.0
PRODID:-//Le Centre Culturel Anatolie - ECPv6.15.20//NONSGML v1.0//EN
CALSCALE:GREGORIAN
METHOD:PUBLISH
X-ORIGINAL-URL:https://cca-anatolie.com
X-WR-CALDESC:Évènements pour Le Centre Culturel Anatolie
REFRESH-INTERVAL;VALUE=DURATION:PT1H
X-Robots-Tag:noindex
X-PUBLISHED-TTL:PT1H
BEGIN:VTIMEZONE
TZID:Europe/Paris
BEGIN:DAYLIGHT
TZOFFSETFROM:+0100
TZOFFSETTO:+0200
TZNAME:CEST
DTSTART:20220327T010000
END:DAYLIGHT
BEGIN:STANDARD
TZOFFSETFROM:+0200
TZOFFSETTO:+0100
TZNAME:CET
DTSTART:20221030T010000
END:STANDARD
BEGIN:DAYLIGHT
TZOFFSETFROM:+0100
TZOFFSETTO:+0200
TZNAME:CEST
DTSTART:20230326T010000
END:DAYLIGHT
BEGIN:STANDARD
TZOFFSETFROM:+0200
TZOFFSETTO:+0100
TZNAME:CET
DTSTART:20231029T010000
END:STANDARD
BEGIN:DAYLIGHT
TZOFFSETFROM:+0100
TZOFFSETTO:+0200
TZNAME:CEST
DTSTART:20240331T010000
END:DAYLIGHT
BEGIN:STANDARD
TZOFFSETFROM:+0200
TZOFFSETTO:+0100
TZNAME:CET
DTSTART:20241027T010000
END:STANDARD
END:VTIMEZONE
BEGIN:VEVENT
DTSTART;TZID=Europe/Paris:20230126T183000
DTEND;TZID=Europe/Paris:20230126T220000
DTSTAMP:20260421T200306
CREATED:20230107T095129Z
LAST-MODIFIED:20230131T122136Z
UID:6706-1674757800-1674770400@cca-anatolie.com
SUMMARY:La Fille de l’ethnographe
DESCRIPTION:Le Centre Culturel Anatolie a le plaisir de vous inviter à la présentation et à la signature du livre \n«La Fille de l’ethnographe»\nde\nTimour MUHIDINE \nPrésenté par Gül Mete Yuva \nLe jeudi 26 janvier 2023 à 18 heures30 \nLe livre; \nNedjla\, 20 ans\, étudiante\, musulmane émancipée\, vit à Istanbul avec sa mère. Ses amis la prennent pour une « féministe enragée ». Cependant\, elle s’est construite par rapport à la figure paternelle\, et son père vient de mourir. Qui était-il en réalité ? Elle décide de se plonger dans son dernier livre pour y trouver des réponses. \n« Comment peut-on être persan ? » Comment peut-on être français ? Que se passe-t-il lorsqu’un chercheur en anthropologie débarque d’Istanbul en France dans les années 1960 ? Pour mener ses recherches\, Oktay a choisi de s’établir dans une petite ville de l’est de la France\, où il souhaite étudier les usages français afin d’en tirer un livre. \nTimour Muhidine nous livre\, avec La Fille de l’ethnographe\, un roman social décalé sur les Français sous le regard de l’étranger. Deux générations\, deux manières de penser et de regarder l’autre. \n« Ce roman est le constat d’un échec et d’une utopie : Nedjla reprend le flambeau. Armée de sa jeunesse et de ses croyances\, elle entend bien élucider le mystère. Se mesurer à l’Europe\, c’est la mission de toute une famille. Il faut admettre que l’on ne connaîtra jamais vraiment l’Autre. Qu’importe ! La responsabilité humaine consiste surtout à développer son empathie et à forcer son optimisme\, ce qui n’est pas rien. » \n– Timour Muhidine \nL’auteur; \nTimour Muhidine est né en 1959 à Koweït City\, d’un père syrien issu d’une famille turque et d’une mère française. Il habite en France depuis 1962. \nIl passe son enfance à Arras\, e ectue ses études à Lille puis à Paris\, où il réside actuellement. Écrivain et traducteur\, il enseigne la littérature tur     que contemporaine à l’Inalco (Paris) et dirige la collection « Lettres turques » chez Actes Sud \n  \nhttps://www.youtube.com/watch?v=hhax1KGaDGE \n  \n 
URL:https://cca-anatolie.com/evenement/la-fille-de-lethnographe/
LOCATION:Centre Culturel Anatolie\, Centre Culturel Anatolie 77 rue La Fayette\, Paris\, 75009\, France
CATEGORIES:Événement,Présentation
ATTACH;FMTTYPE=image/jpeg:https://cca-anatolie.com/wp-content/uploads/2023/01/cca-present-20230126.jpg
ORGANIZER;CN="Centre Culturel Anatolie":MAILTO:contact@cca-anatolie.com
END:VEVENT
END:VCALENDAR