BEGIN:VCALENDAR
VERSION:2.0
PRODID:-//Le Centre Culturel Anatolie - ECPv6.15.20//NONSGML v1.0//EN
CALSCALE:GREGORIAN
METHOD:PUBLISH
X-WR-CALNAME:Le Centre Culturel Anatolie
X-ORIGINAL-URL:https://cca-anatolie.com
X-WR-CALDESC:Évènements pour Le Centre Culturel Anatolie
REFRESH-INTERVAL;VALUE=DURATION:PT1H
X-Robots-Tag:noindex
X-PUBLISHED-TTL:PT1H
BEGIN:VTIMEZONE
TZID:Europe/Paris
BEGIN:DAYLIGHT
TZOFFSETFROM:+0100
TZOFFSETTO:+0200
TZNAME:CEST
DTSTART:20230326T010000
END:DAYLIGHT
BEGIN:STANDARD
TZOFFSETFROM:+0200
TZOFFSETTO:+0100
TZNAME:CET
DTSTART:20231029T010000
END:STANDARD
BEGIN:DAYLIGHT
TZOFFSETFROM:+0100
TZOFFSETTO:+0200
TZNAME:CEST
DTSTART:20240331T010000
END:DAYLIGHT
BEGIN:STANDARD
TZOFFSETFROM:+0200
TZOFFSETTO:+0100
TZNAME:CET
DTSTART:20241027T010000
END:STANDARD
BEGIN:DAYLIGHT
TZOFFSETFROM:+0100
TZOFFSETTO:+0200
TZNAME:CEST
DTSTART:20250330T010000
END:DAYLIGHT
BEGIN:STANDARD
TZOFFSETFROM:+0200
TZOFFSETTO:+0100
TZNAME:CET
DTSTART:20251026T010000
END:STANDARD
END:VTIMEZONE
BEGIN:VEVENT
DTSTART;TZID=Europe/Paris:20241017T183000
DTEND;TZID=Europe/Paris:20241017T220000
DTSTAMP:20260420T085012
CREATED:20241011T070126Z
LAST-MODIFIED:20241011T070453Z
UID:7139-1729189800-1729202400@cca-anatolie.com
SUMMARY:«Amour et rébellion» Nedim Gürsel
DESCRIPTION:Le Centre Culturel Anatolie a le plaisir de vous inviter à la présentation\,  à la signature du livre \n«Amour et rébellion»\nNedim Gürsel \nPrésenté par Catherine Erikan \nLe jeudi 17 octobre 2024 à 18 heures 30 \nAmour et rébellion\nLe voyage de Candide à Istanbul \nNedim Gürsel (Auteur)\nCatherine Érikan (Traduction) \n« Candide avait accumulé les morts\, comme on sème les graines : épidémies successives\, viols\, empalements\, tortures\, pillages\, destructions… Tout en étant brisé\, il n’avait rien perdu de son optimisme et avait hâte de rejoindre celle qu’il aimait. C’était dans l’espoir de la retrouver à Istanbul qu’il s’était mis en route\, c’était par amour qu’il franchissait toutes ces mers. Lorsqu’il eut quitté l’Adriatique et fut entré dans la mer Égée\, le temps se gâta. La mer se déchaîna\, de grosses vagues commencèrent à faire tanguer le navire et Candide dut désormais passer son temps en cabine. Il ne pouvait s’empêcher de se demander à quoi ressemblaient Istanbul et les gens qui peuplaient cette cité. » \nEn revisitant le conte de Voltaire\, Candide ou l’Optimisme\, Nedim Gürsel dépeint un tableau à la fois drôle et impitoyable des moeurs de la dynastie ottomane du XVIIIe siècle. Dans cette fable historique et philosophique\, se jouant des clichés et stéréotypes\, l’auteur dénonce quelques hypocrisies et entraves toujours d’actualité en Turquie\, ainsi que l’ottomania de certains politiciens. \nAuteur turc\, lauréat de nombreux prix\, Nedim Gürsel a écrit une quarantaine de romans\, de nouvelles\, d’essais et de récits de voyage\, parmi lesquels aux éditions du Seuil Les Filles d’Allah\, L’Ange rouge ou encore Les Écrivains et leurs villes. \nLinguiste et traductrice\, Catherine Érikan a longtemps enseigné à l’université de Strasbourg\, au département d’études turques.
URL:https://cca-anatolie.com/evenement/amour-et-rebellion-nedim-gursel/
LOCATION:Centre Culturel Anatolie\, Centre Culturel Anatolie 77 rue La Fayette\, Paris\, 75009\, France
CATEGORIES:Événement,Présentation
ATTACH;FMTTYPE=image/jpeg:https://cca-anatolie.com/wp-content/uploads/2024/10/cca-present-20241017.jpg
END:VEVENT
END:VCALENDAR