BEGIN:VCALENDAR
VERSION:2.0
PRODID:-//Le Centre Culturel Anatolie - ECPv6.15.20//NONSGML v1.0//EN
CALSCALE:GREGORIAN
METHOD:PUBLISH
X-WR-CALNAME:Le Centre Culturel Anatolie
X-ORIGINAL-URL:https://cca-anatolie.com
X-WR-CALDESC:Évènements pour Le Centre Culturel Anatolie
REFRESH-INTERVAL;VALUE=DURATION:PT1H
X-Robots-Tag:noindex
X-PUBLISHED-TTL:PT1H
BEGIN:VTIMEZONE
TZID:Europe/Paris
BEGIN:DAYLIGHT
TZOFFSETFROM:+0100
TZOFFSETTO:+0200
TZNAME:CEST
DTSTART:20220327T010000
END:DAYLIGHT
BEGIN:STANDARD
TZOFFSETFROM:+0200
TZOFFSETTO:+0100
TZNAME:CET
DTSTART:20221030T010000
END:STANDARD
BEGIN:DAYLIGHT
TZOFFSETFROM:+0100
TZOFFSETTO:+0200
TZNAME:CEST
DTSTART:20230326T010000
END:DAYLIGHT
BEGIN:STANDARD
TZOFFSETFROM:+0200
TZOFFSETTO:+0100
TZNAME:CET
DTSTART:20231029T010000
END:STANDARD
BEGIN:DAYLIGHT
TZOFFSETFROM:+0100
TZOFFSETTO:+0200
TZNAME:CEST
DTSTART:20240331T010000
END:DAYLIGHT
BEGIN:STANDARD
TZOFFSETFROM:+0200
TZOFFSETTO:+0100
TZNAME:CET
DTSTART:20241027T010000
END:STANDARD
END:VTIMEZONE
BEGIN:VEVENT
DTSTART;TZID=Europe/Paris:20231214T183000
DTEND;TZID=Europe/Paris:20231214T210000
DTSTAMP:20260421T011955
CREATED:20231127T090541Z
LAST-MODIFIED:20231127T090541Z
UID:6864-1702578600-1702587600@cca-anatolie.com
SUMMARY:Şiir gibi özgür
DESCRIPTION:Anadolu Kültür Merkezi sizleri kitap tanıtımı ve imza gününe davet etmekten onur duyar \n« Şiir gibi özgür » \nHilal DURDAŞOĞLU \n14 aralık 2023 Perşembe günü saat 18 :30’da \nHilal Durdaşoğlu \nYazar – Ressam – İş İnsanı \n9 Mart 1985’ te İstanbul’da doğdu. İstanbul Kabataş Erkek Lisesi’nden sonra\, FMV Işık Üniversitesi İngilizce Siyaset Bilimi Bölümü’nden mezun oldu. Maltepe Üniversitesi’nde İnsan Hakları Yüksek Lisans eğitimi aldı. Girişimci bir iş insanı olarak kurduğu marka iletişim ajansıyla iş hayatına devam eden Durdaşoğlu\, edebiyat ve resim ile her zaman iç içe oldu. Sosyal projelerde aktif rol üstlendi. \nSokak çocuklarıyla yaşadığı gerçek hikayesini anlattığı ilk kitabı ‘ÜCRA’ nın 5.baskısından sonra\, 2. kitabı ‘Şiir Gibi Özgür’ ile bu defa şiir okurlarıyla buluştu. \n“Yazmak; delilik mi\, özgürlük mü emin değilim ama benim için özgürlük özlemine delice tutunma çabası gibi… Sanatın iyileştirici gücüne inanıyorum”
URL:https://cca-anatolie.com/evenement/siir-gibi-ozgur/
LOCATION:Centre Culturel Anatolie\, Centre Culturel Anatolie 77 rue La Fayette\, Paris\, 75009\, France
CATEGORIES:Événement,Présentation
ATTACH;FMTTYPE=image/jpeg:https://cca-anatolie.com/wp-content/uploads/2023/11/cca-event-20231214.jpg
ORGANIZER;CN="Centre Culturel Anatolie":MAILTO:contact@cca-anatolie.com
END:VEVENT
BEGIN:VEVENT
DTSTART;TZID=Europe/Paris:20231221T183000
DTEND;TZID=Europe/Paris:20231221T210000
DTSTAMP:20260421T011955
CREATED:20231201T083125Z
LAST-MODIFIED:20231201T083125Z
UID:6886-1703183400-1703192400@cca-anatolie.com
SUMMARY:Nedim Gürsel- René Etiemble Lettres d'exils (1975-1995)
DESCRIPTION:Le Centre Culturel Anatolie a le plaisir de vous inviter à la présentation\, à la signature du livre et à la projection du film \n«Nedim Gürsel- René ETIEMBLE\nLettres d’exils (1975-1995)» \nPrésenté par Sevgi Türker Terlemez \nLe jeudi 21 décembre 2023 à 18 heures 30 \nNedim GÜRSEL – René ÉTIEMBLE \nNé dans le sud-est de la Turquie\, Nedim GÜRSEL achève ses études à Paris avec une thèse de doctorat en littérature comparée sous la direction de René Étiemble. \nLeurs échanges se poursuivent jusqu’au début des années 1990\, quand la maladie mure imperceptiblement dans le silence Étiemble\, qui aide son étudiant à publier en français son premier livre\, Un long été à Istanbul. \nLa publication de cet important volume définit ce qu’est pour Nedim Gürsel la nécessité de l’art d’écrire. Le sentiment dominant de cette correspondance est celui de l’exil ; d’une part celui d’un jeune étudiant Nedim Gürsel dont l’oeuvre et la stature prennent progressivement de l’ampleur ; et d’autre part celui de René Étiemble\, son directeur de recherche parvenu au soir de sa vie\, jetant sur le monde et sur son époque un regard de plus en plus amer\, mais toujours animé de passions et de colères intactes.
URL:https://cca-anatolie.com/evenement/nedim-gursel-rene-etiemble-lettres-dexils-1975-1995/
LOCATION:Centre Culturel Anatolie\, Centre Culturel Anatolie 77 rue La Fayette\, Paris\, 75009\, France
CATEGORIES:Événement,Présentation
ATTACH;FMTTYPE=image/jpeg:https://cca-anatolie.com/wp-content/uploads/2023/12/cca-present-20231221.jpg
END:VEVENT
END:VCALENDAR