BEGIN:VCALENDAR
VERSION:2.0
PRODID:-//Le Centre Culturel Anatolie - ECPv6.15.20//NONSGML v1.0//EN
CALSCALE:GREGORIAN
METHOD:PUBLISH
X-ORIGINAL-URL:https://cca-anatolie.com
X-WR-CALDESC:Évènements pour Le Centre Culturel Anatolie
REFRESH-INTERVAL;VALUE=DURATION:PT1H
X-Robots-Tag:noindex
X-PUBLISHED-TTL:PT1H
BEGIN:VTIMEZONE
TZID:Europe/Paris
BEGIN:DAYLIGHT
TZOFFSETFROM:+0100
TZOFFSETTO:+0200
TZNAME:CEST
DTSTART:20210328T010000
END:DAYLIGHT
BEGIN:STANDARD
TZOFFSETFROM:+0200
TZOFFSETTO:+0100
TZNAME:CET
DTSTART:20211031T010000
END:STANDARD
BEGIN:DAYLIGHT
TZOFFSETFROM:+0100
TZOFFSETTO:+0200
TZNAME:CEST
DTSTART:20220327T010000
END:DAYLIGHT
BEGIN:STANDARD
TZOFFSETFROM:+0200
TZOFFSETTO:+0100
TZNAME:CET
DTSTART:20221030T010000
END:STANDARD
BEGIN:DAYLIGHT
TZOFFSETFROM:+0100
TZOFFSETTO:+0200
TZNAME:CEST
DTSTART:20230326T010000
END:DAYLIGHT
BEGIN:STANDARD
TZOFFSETFROM:+0200
TZOFFSETTO:+0100
TZNAME:CET
DTSTART:20231029T010000
END:STANDARD
END:VTIMEZONE
BEGIN:VEVENT
DTSTART;TZID=Europe/Paris:20221208T183000
DTEND;TZID=Europe/Paris:20221208T220000
DTSTAMP:20260421T195544
CREATED:20221109T100503Z
LAST-MODIFIED:20221212T152810Z
UID:6672-1670524200-1670536800@cca-anatolie.com
SUMMARY:Un Printemps assiégé
DESCRIPTION:     Le Centre Culturel Anatolie a le plaisir de vous inviter à la présentation et à la signature du recueil de poésie \n« Un Printemps assiégé »\nde\nAtaol Behramoğlu \nPrésenté par Francis Combes \nLe jeudi 8 décembre 2022 à 18 heures 30
URL:https://cca-anatolie.com/evenement/un-printemps-assiege/
LOCATION:Centre Culturel Anatolie\, Centre Culturel Anatolie 77 rue La Fayette\, Paris\, 75009\, France
CATEGORIES:Événement,Présentation
ATTACH;FMTTYPE=image/jpeg:https://cca-anatolie.com/wp-content/uploads/2022/11/cca-present-20221208.jpg
END:VEVENT
END:VCALENDAR