BEGIN:VCALENDAR
VERSION:2.0
PRODID:-//Le Centre Culturel Anatolie - ECPv6.15.20//NONSGML v1.0//EN
CALSCALE:GREGORIAN
METHOD:PUBLISH
X-WR-CALNAME:Le Centre Culturel Anatolie
X-ORIGINAL-URL:https://cca-anatolie.com
X-WR-CALDESC:Évènements pour Le Centre Culturel Anatolie
REFRESH-INTERVAL;VALUE=DURATION:PT1H
X-Robots-Tag:noindex
X-PUBLISHED-TTL:PT1H
BEGIN:VTIMEZONE
TZID:Europe/Paris
BEGIN:DAYLIGHT
TZOFFSETFROM:+0100
TZOFFSETTO:+0200
TZNAME:CEST
DTSTART:20240331T010000
END:DAYLIGHT
BEGIN:STANDARD
TZOFFSETFROM:+0200
TZOFFSETTO:+0100
TZNAME:CET
DTSTART:20241027T010000
END:STANDARD
BEGIN:DAYLIGHT
TZOFFSETFROM:+0100
TZOFFSETTO:+0200
TZNAME:CEST
DTSTART:20250330T010000
END:DAYLIGHT
BEGIN:STANDARD
TZOFFSETFROM:+0200
TZOFFSETTO:+0100
TZNAME:CET
DTSTART:20251026T010000
END:STANDARD
BEGIN:DAYLIGHT
TZOFFSETFROM:+0100
TZOFFSETTO:+0200
TZNAME:CEST
DTSTART:20260329T010000
END:DAYLIGHT
BEGIN:STANDARD
TZOFFSETFROM:+0200
TZOFFSETTO:+0100
TZNAME:CET
DTSTART:20261025T010000
END:STANDARD
END:VTIMEZONE
BEGIN:VEVENT
DTSTART;VALUE=DATE:20250313
DTEND;VALUE=DATE:20250331
DTSTAMP:20260425T030945
CREATED:20250223T101621Z
LAST-MODIFIED:20250321T143502Z
UID:7360-1741824000-1743379199@cca-anatolie.com
SUMMARY:Du coffre au cadre
DESCRIPTION:Le Centre Culturel Anatolie a le plaisir de vous inviter au vernissage de l’exposition \n« Du coffre au cadre » \nAysun Oktayoğlu \nLe jeudi 13 mars 2025 à 18 heures 30 \nAysun Oktayoğlu : \nNée dans la vibrante ville d’Istanbul en 1960\, Aysun Oktayoğlu est une artiste chevronnée\, dont le parcours a été façonné par la riche histoire de la ville d’Istanbul. \nL’influence de l’éducation d’Aysun est évidente dans son art. Les aiguilles\, les crochets et les appareils à tricoter sont devenus des compagnons constants dans ses entreprises créatives\, sans aucun doute par l’influence d’une mère\, habile professeure de couture et de broderie. Dès son plus jeune âge\, Aysun a manifesté une passion inébranlable pour la peinture à l’aquarelle. Au cours de la dernière décennie\, elle a méticuleusement perfectionné son art\, trouvant son inspiration auprès de deux instructeurs distincts. La culmination de ces efforts a abouti à un remarquable voyage artistique\, marqué par une série d’expositions tant en Turquie que sur la scène internationale.
URL:https://cca-anatolie.com/evenement/du-coffre-au-cadre/
LOCATION:Centre Culturel Anatolie\, Centre Culturel Anatolie 77 rue La Fayette\, Paris\, 75009\, France
CATEGORIES:Exposition,Vernissage
ATTACH;FMTTYPE=image/jpeg:https://cca-anatolie.com/wp-content/uploads/2025/02/cca-expos-20250313.jpg
END:VEVENT
END:VCALENDAR