BEGIN:VCALENDAR
VERSION:2.0
PRODID:-//Le Centre Culturel Anatolie - ECPv6.15.20//NONSGML v1.0//EN
CALSCALE:GREGORIAN
METHOD:PUBLISH
X-WR-CALNAME:Le Centre Culturel Anatolie
X-ORIGINAL-URL:https://cca-anatolie.com
X-WR-CALDESC:Évènements pour Le Centre Culturel Anatolie
REFRESH-INTERVAL;VALUE=DURATION:PT1H
X-Robots-Tag:noindex
X-PUBLISHED-TTL:PT1H
BEGIN:VTIMEZONE
TZID:Europe/Paris
BEGIN:DAYLIGHT
TZOFFSETFROM:+0100
TZOFFSETTO:+0200
TZNAME:CEST
DTSTART:20240331T010000
END:DAYLIGHT
BEGIN:STANDARD
TZOFFSETFROM:+0200
TZOFFSETTO:+0100
TZNAME:CET
DTSTART:20241027T010000
END:STANDARD
BEGIN:DAYLIGHT
TZOFFSETFROM:+0100
TZOFFSETTO:+0200
TZNAME:CEST
DTSTART:20250330T010000
END:DAYLIGHT
BEGIN:STANDARD
TZOFFSETFROM:+0200
TZOFFSETTO:+0100
TZNAME:CET
DTSTART:20251026T010000
END:STANDARD
BEGIN:DAYLIGHT
TZOFFSETFROM:+0100
TZOFFSETTO:+0200
TZNAME:CEST
DTSTART:20260329T010000
END:DAYLIGHT
BEGIN:STANDARD
TZOFFSETFROM:+0200
TZOFFSETTO:+0100
TZNAME:CET
DTSTART:20261025T010000
END:STANDARD
END:VTIMEZONE
BEGIN:VEVENT
DTSTART;TZID=Europe/Paris:20250626T183000
DTEND;TZID=Europe/Paris:20250805T190000
DTSTAMP:20260424T174321
CREATED:20250610T123621Z
LAST-MODIFIED:20250610T124316Z
UID:7420-1750962600-1754420400@cca-anatolie.com
SUMMARY:Le tourbillon d’Anatolie
DESCRIPTION:a le plaisir de vous inviter au vernissage de l’exposition de peinture du groupe SAKÜDER \n« Le tourbillon d’Anatolie » \nGüneş ABBAS\, Esra Ece ALAY\, Rabia BIDI\, Hülya ÇOLAKLAR\, K. Muzaffer GENÇER\, Arif HÜSEYNOV\, Aydan KANTAR\, Siruz MİRZAZADE\, Gülseren PASİN\, Bedia YERLİYURT \nLe jeudi 26 juin 2025 à partir de 18 heures 30 \nExposition du 26 juin au 26 juillet 2025 du lundi au vendredi de 12h à 19h
URL:https://cca-anatolie.com/evenement/le-tourbillon-danatolie-6/
LOCATION:Centre Culturel Anatolie\, Centre Culturel Anatolie 77 rue La Fayette\, Paris\, 75009\, France
CATEGORIES:Événement,Exposition
ATTACH;FMTTYPE=image/jpeg:https://cca-anatolie.com/wp-content/uploads/2025/06/cca-event-20250625.jpg
END:VEVENT
END:VCALENDAR