BEGIN:VCALENDAR
VERSION:2.0
PRODID:-//Le Centre Culturel Anatolie - ECPv6.15.20//NONSGML v1.0//EN
CALSCALE:GREGORIAN
METHOD:PUBLISH
X-ORIGINAL-URL:https://cca-anatolie.com
X-WR-CALDESC:Évènements pour Le Centre Culturel Anatolie
REFRESH-INTERVAL;VALUE=DURATION:PT1H
X-Robots-Tag:noindex
X-PUBLISHED-TTL:PT1H
BEGIN:VTIMEZONE
TZID:Europe/Paris
BEGIN:DAYLIGHT
TZOFFSETFROM:+0100
TZOFFSETTO:+0200
TZNAME:CEST
DTSTART:20220327T010000
END:DAYLIGHT
BEGIN:STANDARD
TZOFFSETFROM:+0200
TZOFFSETTO:+0100
TZNAME:CET
DTSTART:20221030T010000
END:STANDARD
BEGIN:DAYLIGHT
TZOFFSETFROM:+0100
TZOFFSETTO:+0200
TZNAME:CEST
DTSTART:20230326T010000
END:DAYLIGHT
BEGIN:STANDARD
TZOFFSETFROM:+0200
TZOFFSETTO:+0100
TZNAME:CET
DTSTART:20231029T010000
END:STANDARD
BEGIN:DAYLIGHT
TZOFFSETFROM:+0100
TZOFFSETTO:+0200
TZNAME:CEST
DTSTART:20240331T010000
END:DAYLIGHT
BEGIN:STANDARD
TZOFFSETFROM:+0200
TZOFFSETTO:+0100
TZNAME:CET
DTSTART:20241027T010000
END:STANDARD
END:VTIMEZONE
BEGIN:VEVENT
DTSTART;TZID=Europe/Paris:20231026T180000
DTEND;TZID=Europe/Paris:20231026T200000
DTSTAMP:20260426T050013
CREATED:20231016T113226Z
LAST-MODIFIED:20231016T114951Z
UID:6843-1698343200-1698350400@cca-anatolie.com
SUMMARY:Istanbul 1923
DESCRIPTION:A l’occasion du 100éme anniversaire de la proclamation de la République de Turquie \nLe Centre Culturel Anatolie a le plaisir de vous présenter l’exposition de photographie \n«Istanbul 1923»  \nL’exposition organisée grâce aux collections \nde Monsieur Sarkis KARAMANIK et Dr. Demir ONGER \nLe jeudi 26 octobre 2023 à partir de 18 heures
URL:https://cca-anatolie.com/evenement/istanbul-1923/
LOCATION:Centre Culturel Anatolie\, Centre Culturel Anatolie 77 rue La Fayette\, Paris\, 75009\, France
CATEGORIES:Événement,Exposition
ATTACH;FMTTYPE=image/jpeg:https://cca-anatolie.com/wp-content/uploads/2023/10/cca-expo-20231026.jpg
END:VEVENT
END:VCALENDAR