BEGIN:VCALENDAR
VERSION:2.0
PRODID:-//Le Centre Culturel Anatolie - ECPv6.15.20//NONSGML v1.0//EN
CALSCALE:GREGORIAN
METHOD:PUBLISH
X-WR-CALNAME:Le Centre Culturel Anatolie
X-ORIGINAL-URL:https://cca-anatolie.com
X-WR-CALDESC:Évènements pour Le Centre Culturel Anatolie
REFRESH-INTERVAL;VALUE=DURATION:PT1H
X-Robots-Tag:noindex
X-PUBLISHED-TTL:PT1H
BEGIN:VTIMEZONE
TZID:Europe/Paris
BEGIN:DAYLIGHT
TZOFFSETFROM:+0100
TZOFFSETTO:+0200
TZNAME:CEST
DTSTART:20240331T010000
END:DAYLIGHT
BEGIN:STANDARD
TZOFFSETFROM:+0200
TZOFFSETTO:+0100
TZNAME:CET
DTSTART:20241027T010000
END:STANDARD
BEGIN:DAYLIGHT
TZOFFSETFROM:+0100
TZOFFSETTO:+0200
TZNAME:CEST
DTSTART:20250330T010000
END:DAYLIGHT
BEGIN:STANDARD
TZOFFSETFROM:+0200
TZOFFSETTO:+0100
TZNAME:CET
DTSTART:20251026T010000
END:STANDARD
BEGIN:DAYLIGHT
TZOFFSETFROM:+0100
TZOFFSETTO:+0200
TZNAME:CEST
DTSTART:20260329T010000
END:DAYLIGHT
BEGIN:STANDARD
TZOFFSETFROM:+0200
TZOFFSETTO:+0100
TZNAME:CET
DTSTART:20261025T010000
END:STANDARD
END:VTIMEZONE
BEGIN:VEVENT
DTSTART;TZID=Europe/Paris:20250925T183000
DTEND;TZID=Europe/Paris:20250925T200000
DTSTAMP:20260425T230921
CREATED:20250903T102139Z
LAST-MODIFIED:20250903T102328Z
UID:7467-1758825000-1758830400@cca-anatolie.com
SUMMARY:Une Transformation au Cœur d’Istanbul
DESCRIPTION:Dans le cadre de la Rentrée des Cultures : Le Centre Culturel Anatolie a le plaisir de vous inviter Projection – Conférence \n«Une Transformation au Cœur d’Istanbul » \nEnjeu Pour Le Développement De La Ville \nréalisé par Gwennaëlle SAOUDIN et Ercan KARAER \nLe jeudi 25 septembre 2025 à 18 heures 30 \n\nEnjeu Pour Le Développement De La Ville \nréalisé par Gwennaëlle SAOUDIN\, Ercan KARAER (Architectes HMONP) : \nCette projection-conférence nous invite à explorer les ponts entre passé et présent\, entre Orient et Occident\, en révélant comment les lieux chargés d’histoire peuvent devenir les catalyseurs d’un avenir urbain durable et partagé. Istanbul\, successivement capitale des empires romain\, byzantin et ottoman\, a développé au fil des siècles une richesse culturelle\, historique et architecturale unique\, façonnée par sa position géographique stratégique. Aujourd’hui\, cette mémoire plurielle continue de dialoguer avec les dynamiques contemporaines d’une métropole en constante évolution. Les bâtiments situés dans la péninsule historique ne se contentent pas de porter les traces du passé : ils esquissent aussi les contours de la ville de demain. En 2019\, le maire métropolitain d’Istanbul\, Ekrem İmamoğlu\, a lancé une initiative forte de sens en proposant de transformer une partie du bâtiment de la municipalité en une bibliothèque publique. Cette reconversion s’inscrit dans une approche à la fois architecturale\, sociale\, culturelle et environnementale. La transformation envisagée ne vise pas uniquement l’enveloppe physique du bâtiment\, mais également sa relecture fonctionnelle\, culturelle et sociale. La problématique centrale est la suivante : comment un édifice public existant peut-il être réhabilité en respectant à la fois sa valeur historique et les besoins contemporains ? Dans cette perspective\, les principes de durabilité – efficacité énergétique\, sobriété en ressources\, respect du tissu urbain et de la mémoire – sont placés au cœur de la démarche. Le recours à des dispositifs techniques comme la double peau\, le recyclage des eaux et les systèmes de régulation thermique traduit cette volonté d’allier innovation et héritage. Ainsi\, ce projet ne se limite pas à la réhabilitation d’un bâtiment administratif : il incarne une vision urbaine plus vaste\, un dialogue entre les temporalités\, les usages et les échelles. C’est une tentative de faire émerger\, à partir d’un lieu chargé d’histoire\, une nouvelle manière d’habiter et de transmettre. Là où le bâti devient mémoire active\, et la ville\, matière vivante.
URL:https://cca-anatolie.com/evenement/une-transformation-au-coeur-distanbul/
LOCATION:Centre Culturel Anatolie\, Centre Culturel Anatolie 77 rue La Fayette\, Paris\, 75009\, France
CATEGORIES:Conférence,Événement
ATTACH;FMTTYPE=image/jpeg:https://cca-anatolie.com/wp-content/uploads/2025/09/cca-confe-20250925.jpg
END:VEVENT
END:VCALENDAR